BEGIN:VCALENDAR
VERSION:2.0
PRODID:-//eventon.com NONSGML v1.0//EN
CALSCALE:GREGORIAN
METHOD:PUBLISH
BEGIN:VEVENT
UID:69eb86ae693a6
DTSTAMP:20260424T150518
DTSTART:20260724
DTEND:20260726
TZID:America/Tijuana
LOCATION:Isla de Cedros\,  Baja California Isla de Cedros\,  Baja California
SUMMARY:2026 "NINFAS DEL MAR" WOMEN´S SURF FISHING TOURNAMENT
DESCRIPTION: &#x1f449; EVENT DETAILS CLICK HERE &#x1f4f1;FOR MORE INFO DIAL: 612 202 71 52 &#x2709;&#xfe0f;EMAIL: romubasteri@outlook.es\nhttps://bajasport.fishing/events/2026-ninfas-del-mar-womens-surf-fishing-tournament/
URL:https://bajasport.fishing/events/2026-ninfas-del-mar-womens-surf-fishing-tournament/
END:VEVENT
END:VCALENDAR